BEGIN:VCALENDAR
VERSION:2.0
PRODID:-//Exciting Ministries - ECPv6.15.11//NONSGML v1.0//EN
CALSCALE:GREGORIAN
METHOD:PUBLISH
X-WR-CALNAME:Exciting Ministries
X-ORIGINAL-URL:https://excitingministries.org
X-WR-CALDESC:Events for Exciting Ministries
REFRESH-INTERVAL;VALUE=DURATION:PT1H
X-Robots-Tag:noindex
X-PUBLISHED-TTL:PT1H
BEGIN:VTIMEZONE
TZID:America/New_York
BEGIN:DAYLIGHT
TZOFFSETFROM:-0500
TZOFFSETTO:-0400
TZNAME:EDT
DTSTART:20250309T070000
END:DAYLIGHT
BEGIN:STANDARD
TZOFFSETFROM:-0400
TZOFFSETTO:-0500
TZNAME:EST
DTSTART:20251102T060000
END:STANDARD
BEGIN:DAYLIGHT
TZOFFSETFROM:-0500
TZOFFSETTO:-0400
TZNAME:EDT
DTSTART:20260308T070000
END:DAYLIGHT
BEGIN:STANDARD
TZOFFSETFROM:-0400
TZOFFSETTO:-0500
TZNAME:EST
DTSTART:20261101T060000
END:STANDARD
BEGIN:DAYLIGHT
TZOFFSETFROM:-0500
TZOFFSETTO:-0400
TZNAME:EDT
DTSTART:20270314T070000
END:DAYLIGHT
BEGIN:STANDARD
TZOFFSETFROM:-0400
TZOFFSETTO:-0500
TZNAME:EST
DTSTART:20271107T060000
END:STANDARD
END:VTIMEZONE
BEGIN:VEVENT
DTSTART;TZID=America/New_York:20260516T090000
DTEND;TZID=America/New_York:20260516T130000
DTSTAMP:20260419T162826
CREATED:20260414T035034Z
LAST-MODIFIED:20260414T054410Z
UID:6978-1778922000-1778936400@excitingministries.org
SUMMARY:Winning The Game - Youth Basketball Outreach with Grace Church West Park
DESCRIPTION:Winning The Game @ Grace Church Flyer 2026 (2)
URL:https://excitingministries.org/event/6978/
LOCATION:Grace Church\, 7393 Pearl Rd\, Middleburg Heights\, OH\, 44130\, United States
CATEGORIES:Community Outreach,Education Event,Evangelism,Sports,Youth
ATTACH;FMTTYPE=image/jpeg:https://excitingministries.org/wp-content/uploads/2026/04/Winning-The-Game-@-Grace-Church-Flyer-2026-2.jpg
END:VEVENT
END:VCALENDAR